BEGIN:VCALENDAR
VERSION:2.0
PRODID:-//hacksw/handcal//NONSGML v1.0//EN
CALSCALE:GREGORIAN
BEGIN:VEVENT
UID:69ea8b7005cfd
DTSTAMP:20260423T211320
DTSTART:20180414T090000
DTEND:20180414T000000
LOCATION:
DESCRIPTION:Frühjahrsinstandsetzung (Putzete)
URL;VALUE=URI:
SUMMARY:Putzete / Frühjahrsinstandsetzung
END:VEVENT
END:VCALENDAR