BEGIN:VCALENDAR
VERSION:2.0
PRODID:-//hacksw/handcal//NONSGML v1.0//EN
CALSCALE:GREGORIAN
BEGIN:VEVENT
UID:69ea8abbb029f
DTSTAMP:20260423T211019
DTSTART:20180804T160000
DTEND:20180804T000000
LOCATION:
DESCRIPTION:TCK-Volksfest
URL;VALUE=URI:
SUMMARY:TCK Sommer- / Volksfest
END:VEVENT
END:VCALENDAR