BEGIN:VCALENDAR
VERSION:2.0
PRODID:-//hacksw/handcal//NONSGML v1.0//EN
CALSCALE:GREGORIAN
BEGIN:VEVENT
UID:69ea8bf32ce25
DTSTAMP:20260423T211531
DTSTART:20180323T190000
DTEND:20180323T000000
LOCATION:
DESCRIPTION:Mitglieder-Hauptversammlung
URL;VALUE=URI:
SUMMARY:Mitglieder-Hauptversammlung
END:VEVENT
END:VCALENDAR