BEGIN:VCALENDAR
VERSION:2.0
PRODID:-//hacksw/handcal//NONSGML v1.0//EN
CALSCALE:GREGORIAN
BEGIN:VEVENT
UID:69ea8c58bf06b
DTSTAMP:20260423T211712
DTSTART:20190224T150000
DTEND:20190224T000000
LOCATION:
DESCRIPTION:Jugend-Hauptversammlung
URL;VALUE=URI:
SUMMARY:Jugend-Hauptversammlung
END:VEVENT
END:VCALENDAR