BEGIN:VCALENDAR
VERSION:2.0
PRODID:-//hacksw/handcal//NONSGML v1.0//EN
CALSCALE:GREGORIAN
BEGIN:VEVENT
UID:69ea8bf22b316
DTSTAMP:20260423T211530
DTSTART:20190322T190000
DTEND:20190322T000000
LOCATION:
DESCRIPTION:Mitglieder-Hauptversammlung
URL;VALUE=URI:
SUMMARY:Mitglieder-Hauptversammlung
END:VEVENT
END:VCALENDAR