BEGIN:VCALENDAR
VERSION:2.0
PRODID:-//hacksw/handcal//NONSGML v1.0//EN
CALSCALE:GREGORIAN
BEGIN:VEVENT
UID:69ea8ba8e3bdd
DTSTAMP:20260423T211416
DTSTART:20190413T090000
DTEND:20190413T000000
LOCATION:
DESCRIPTION:Frühjahrs-Putzete
URL;VALUE=URI:
SUMMARY:Frühjahrs-Putzete
END:VEVENT
END:VCALENDAR