BEGIN:VCALENDAR
VERSION:2.0
PRODID:-//hacksw/handcal//NONSGML v1.0//EN
CALSCALE:GREGORIAN
BEGIN:VEVENT
UID:69ea8c5e869b5
DTSTAMP:20260423T211718
DTSTART:20190501T000000
DTEND:20190501T000000
LOCATION:Bogenstr. 17, 70806 Kornwestheim
DESCRIPTION:Tag der offenen Tür & Aktion 
URL;VALUE=URI:
SUMMARY:Tag der offenen Tür
END:VEVENT
END:VCALENDAR