BEGIN:VCALENDAR
VERSION:2.0
PRODID:-//hacksw/handcal//NONSGML v1.0//EN
CALSCALE:GREGORIAN
BEGIN:VEVENT
UID:69ea79acd3fba
DTSTAMP:20260423T195732
DTSTART:20200314T160000
DTEND:20200314T000000
LOCATION:
DESCRIPTION:
URL;VALUE=URI:
SUMMARY:Jugendversammlung
END:VEVENT
END:VCALENDAR