BEGIN:VCALENDAR
VERSION:2.0
PRODID:-//hacksw/handcal//NONSGML v1.0//EN
CALSCALE:GREGORIAN
BEGIN:VEVENT
UID:69ea785ac33e4
DTSTAMP:20260423T195154
DTSTART:20201024T180000
DTEND:20201024T000000
LOCATION:
DESCRIPTION:
URL;VALUE=URI:
SUMMARY:Herbstfest
END:VEVENT
END:VCALENDAR