BEGIN:VCALENDAR
VERSION:2.0
PRODID:-//hacksw/handcal//NONSGML v1.0//EN
CALSCALE:GREGORIAN
BEGIN:VEVENT
UID:69ea8783c2c4c
DTSTAMP:20260423T205635
DTSTART:20220730T180000
DTEND:20220730T000000
LOCATION:
DESCRIPTION:Sommerfest 2022 - Der TCK feiert 60 Jahre
URL;VALUE=URI:
SUMMARY:TCK-Sommerfest
END:VEVENT
END:VCALENDAR