BEGIN:VCALENDAR
VERSION:2.0
PRODID:-//hacksw/handcal//NONSGML v1.0//EN
CALSCALE:GREGORIAN
BEGIN:VEVENT
UID:69ea79ad565b7
DTSTAMP:20260423T195733
DTSTART:20221217T160000
DTEND:20221217T000000
LOCATION:Bogenstr. 17, 70806 Kornwestheim
DESCRIPTION:
URL;VALUE=URI:
SUMMARY:TCK-Weihnachtstreff
END:VEVENT
END:VCALENDAR