BEGIN:VCALENDAR
VERSION:2.0
PRODID:-//hacksw/handcal//NONSGML v1.0//EN
CALSCALE:GREGORIAN
BEGIN:VEVENT
UID:69ea5f4c97232
DTSTAMP:20260423T180500
DTSTART:20230601T000000
DTEND:20230602T000000
LOCATION:
DESCRIPTION:
URL;VALUE=URI:
SUMMARY:Pfingstcamp (Jugend)
END:VEVENT
END:VCALENDAR