BEGIN:VCALENDAR
VERSION:2.0
PRODID:-//hacksw/handcal//NONSGML v1.0//EN
CALSCALE:GREGORIAN
BEGIN:VEVENT
UID:69ea64bd9190c
DTSTAMP:20260423T182813
DTSTART:20230807T000000
DTEND:20230810T000000
LOCATION:
DESCRIPTION:
URL;VALUE=URI:
SUMMARY:Sommerferien Tenniscamp 2023
END:VEVENT
END:VCALENDAR