BEGIN:VCALENDAR
VERSION:2.0
PRODID:-//hacksw/handcal//NONSGML v1.0//EN
CALSCALE:GREGORIAN
BEGIN:VEVENT
UID:69ea607613e26
DTSTAMP:20260423T180958
DTSTART:20231216T170000
DTEND:20231216T000000
LOCATION:
DESCRIPTION:
URL;VALUE=URI:
SUMMARY:TCK-Weihnachtstreff
END:VEVENT
END:VCALENDAR