BEGIN:VCALENDAR
VERSION:2.0
PRODID:-//hacksw/handcal//NONSGML v1.0//EN
CALSCALE:GREGORIAN
BEGIN:VEVENT
UID:69ea60cdad758
DTSTAMP:20260423T181125
DTSTART:20240902T000000
DTEND:20240905T000000
LOCATION:
DESCRIPTION:
URL;VALUE=URI:
SUMMARY:TCK Sommercamp II
END:VEVENT
END:VCALENDAR