BEGIN:VCALENDAR
VERSION:2.0
PRODID:-//hacksw/handcal//NONSGML v1.0//EN
CALSCALE:GREGORIAN
BEGIN:VEVENT
UID:69ea60cdd4bfa
DTSTAMP:20260423T181125
DTSTART:20250621T000000
DTEND:20250622T000000
LOCATION:
DESCRIPTION:NEXT LEVEL-Turnierserie der VR-Talentiade U10
URL;VALUE=URI:
SUMMARY:U10 Next-Level Turnier
END:VEVENT
END:VCALENDAR