BEGIN:VCALENDAR
VERSION:2.0
PRODID:-//hacksw/handcal//NONSGML v1.0//EN
CALSCALE:GREGORIAN
BEGIN:VEVENT
UID:69ea637f5987d
DTSTAMP:20260423T182255
DTSTART:20250510T000000
DTEND:20250510T000000
LOCATION:
DESCRIPTION:
URL;VALUE=URI:
SUMMARY:TCK Tag der offenen Tür 2025
END:VEVENT
END:VCALENDAR