BEGIN:VCALENDAR
VERSION:2.0
PRODID:-//hacksw/handcal//NONSGML v1.0//EN
CALSCALE:GREGORIAN
BEGIN:VEVENT
UID:69ea62d0e4e2a
DTSTAMP:20260423T182000
DTSTART:20250425T000000
DTEND:20250427T000000
LOCATION:
DESCRIPTION:
URL;VALUE=URI:
SUMMARY:TCK Stadtmeisterschaften 2025
END:VEVENT
END:VCALENDAR