BEGIN:VCALENDAR
VERSION:2.0
PRODID:-//hacksw/handcal//NONSGML v1.0//EN
CALSCALE:GREGORIAN
BEGIN:VEVENT
UID:69ea63f10c4a3
DTSTAMP:20260423T182449
DTSTART:20250808T000000
DTEND:20250810T000000
LOCATION:
DESCRIPTION:
URL;VALUE=URI:
SUMMARY:TC Kornwestheim Open (A6 Ranglistenturnier)
END:VEVENT
END:VCALENDAR