BEGIN:VCALENDAR
VERSION:2.0
PRODID:-//hacksw/handcal//NONSGML v1.0//EN
CALSCALE:GREGORIAN
BEGIN:VEVENT
UID:69ea5f4bd32ec
DTSTAMP:20260423T180459
DTSTART:20250913T000000
DTEND:20250913T000000
LOCATION:
DESCRIPTION:
URL;VALUE=URI:
SUMMARY:TCK Jugendturnier U12
END:VEVENT
END:VCALENDAR