BEGIN:VCALENDAR
VERSION:2.0
PRODID:-//hacksw/handcal//NONSGML v1.0//EN
CALSCALE:GREGORIAN
BEGIN:VEVENT
UID:69ea60620e994
DTSTAMP:20260423T180938
DTSTART:20250914T000000
DTEND:20250914T000000
LOCATION:
DESCRIPTION:
URL;VALUE=URI:
SUMMARY:TCK Jugendturnier U16
END:VEVENT
END:VCALENDAR